BEGIN:VCALENDAR
VERSION:2.0
CALSCALE:GREGORIAN
PRODID:-//MyApp//Calendar 1.0//EN
BEGIN:VEVENT
METHOD:PUBLISH
UID:60103@regionalniportaly.cz
DTSTAMP:20260422T223821Z
DTSTART;VALUE=DATE:20251114
DTEND;VALUE=DATE:20251115
SUMMARY:Krysáci a ztracený Ludvík
DESCRIPTION:
LOCATION:Zbýšov
END:VEVENT
END:VCALENDAR