BEGIN:VCALENDAR
VERSION:2.0
CALSCALE:GREGORIAN
PRODID:-//MyApp//Calendar 1.0//EN
BEGIN:VEVENT
METHOD:PUBLISH
UID:60095@regionalniportaly.cz
DTSTAMP:20260422T155851Z
DTSTART;VALUE=DATE:20251213
DTEND;VALUE=DATE:20251214
SUMMARY:Vánoční výtvarná dílna
DESCRIPTION:Pojďme spolu nasát kouzelnou atmosféru Vánoc! Děti si vyrobí vlastní vánoční dekorace\, ozdoby a drobné dárečky\, které potěší pod stromečkem. Společně si užijeme tvoření plné radosti\, vůně a pohody.\nVánoční tvoření uzavřeme posezením s pohoštěním pro rodiče\, a to v čase od 15.00 do 16.30\n \nTermín: sobota 13. 12. 2025 od 9.00 do 16.00 hodinCena: ZDARMA. Financováno z projektu Šablony OP JAKMísto: SVČ Rubiko - Žerotínovo náměstí 1\, RosiceUrčeno pro: děti od 6 do 12 let (děti\, které dokáží samostatně tvořit)Přihlašování: Klientské centrumKontakt na garanta akce: Lenka Jílková\, jilkova@svcrosice.cz\n \nDílna zahrnuje veškerý materiál\, pedagogický dozor a oběd.
LOCATION:Rosice
END:VEVENT
END:VCALENDAR