BEGIN:VCALENDAR
VERSION:2.0
CALSCALE:GREGORIAN
PRODID:-//MyApp//Calendar 1.0//EN
BEGIN:VEVENT
METHOD:PUBLISH
UID:60049@regionalniportaly.cz
DTSTAMP:20260422T210204Z
DTSTART;VALUE=DATE:20251112
DTEND;VALUE=DATE:20251113
SUMMARY:pubQuiz v NA JEDNO
DESCRIPTION:Dojdi si zahrát s kamarády pubQuiz ve středu 12.11.2025 v 18:30.\nCena 80kč / osoba\nRegistrace týmů ZDE: https://www.pubquiz.cz/event?id=14727\n 
LOCATION:Rosice
END:VEVENT
END:VCALENDAR