BEGIN:VCALENDAR
VERSION:2.0
CALSCALE:GREGORIAN
PRODID:-//MyApp//Calendar 1.0//EN
BEGIN:VEVENT
METHOD:PUBLISH
UID:6000@regionalniportaly.cz
DTSTAMP:20260421T103849Z
DTSTART;VALUE=DATE:20160327
DTEND;VALUE=DATE:20160328
SUMMARY:Putování velikonočního zajíčka
DESCRIPTION:Přijď si zasoutěžit s velikonočním zajíčkem a jeho kamarády. Čeká tě hledání vajíček\, velikonoční tvoření\, malování na obličej. Kdo přijde v jarním kostýmu\, bude odměněn.\n neděle 27.3. od 15:00 hodin\núplata: 50\,- Kč/ dítě\nSVČ Ivančice\, Zemědělská 2\n
LOCATION:Ivančice
END:VEVENT
END:VCALENDAR