BEGIN:VCALENDAR
VERSION:2.0
CALSCALE:GREGORIAN
PRODID:-//MyApp//Calendar 1.0//EN
BEGIN:VEVENT
METHOD:PUBLISH
UID:59988@regionalniportaly.cz
DTSTAMP:20260422T210321Z
DTSTART;VALUE=DATE:20251126
DTEND;VALUE=DATE:20251127
SUMMARY:Základy aromaterapie - tvořivý workshop
DESCRIPTION:Jemný\, praktický workshop\, kde si účastníci vyzkouší základy aromaterapie a vyrobí si aromaterapeutickou sůl do koupele nebo roll-on – podle vlastního výběru. Dozví se\, jak esenciální oleje bezpečně a jednoduše využít v běžném rodinném životě.\nVhodné pro: začátečníky\, rodiče\, pedagogy i všechny\, kdo se zajímají o přírodní péči.\n \nTermín: středa 26. 11. 2025 od 17.30 do 19.30Cena: 600 Kč (v ceně je zahrnuto: lektor\, materiál)Místo: SVČ Rubiko Žerotínovo náměstí 1 - Jazyková učebna Přihlašování: Klientské centrumKontakt na garanta akce: Andrea Přikrylová\, prikrylova@svcrosice.cz
LOCATION:Rosice
END:VEVENT
END:VCALENDAR