BEGIN:VCALENDAR
VERSION:2.0
CALSCALE:GREGORIAN
PRODID:-//MyApp//Calendar 1.0//EN
BEGIN:VEVENT
METHOD:PUBLISH
UID:59798@regionalniportaly.cz
DTSTAMP:20260422T192639Z
DTSTART;VALUE=DATE:20251129
DTEND;VALUE=DATE:20251130
SUMMARY:Adventní dílna
DESCRIPTION:Advent se blíží\, v herně proto bude vonět svařák a káva. V příjemném prostředí si tak můžete vyrobit adventní věnec na stůl nebo na dveře. 
LOCATION:Rosice
END:VEVENT
END:VCALENDAR