BEGIN:VCALENDAR
VERSION:2.0
CALSCALE:GREGORIAN
PRODID:-//MyApp//Calendar 1.0//EN
BEGIN:VEVENT
METHOD:PUBLISH
UID:59797@regionalniportaly.cz
DTSTAMP:20260422T192526Z
DTSTART;VALUE=DATE:20251129
DTEND;VALUE=DATE:20251130
SUMMARY:Dětská adventní dílna
DESCRIPTION:Adventní čas je tu\, proto se na něj při tvorbě společně naladíme. Tentokrát se sejdeme odpoledne ve 14 hod.
LOCATION:Rosice
END:VEVENT
END:VCALENDAR