BEGIN:VCALENDAR
VERSION:2.0
CALSCALE:GREGORIAN
PRODID:-//MyApp//Calendar 1.0//EN
BEGIN:VEVENT
METHOD:PUBLISH
UID:59750@regionalniportaly.cz
DTSTAMP:20260422T225513Z
DTSTART;VALUE=DATE:20251120
DTEND;VALUE=DATE:20251121
SUMMARY:Beseda - Jak mluvit s dětmi o smrti
DESCRIPTION:Mají vaše děti zvídavé otázky a vy se v tématu smrti necítíte jistě? Nebo mají velký strach a nedá jim to spát? Zveme vás na besedu\, kterou si pro nás připravila průvodkyně umírajících a pozůstalých\, učitelka ve školce Petra Špittová
LOCATION:Rosice
END:VEVENT
END:VCALENDAR