BEGIN:VCALENDAR
VERSION:2.0
CALSCALE:GREGORIAN
PRODID:-//MyApp//Calendar 1.0//EN
BEGIN:VEVENT
METHOD:PUBLISH
UID:59565@regionalniportaly.cz
DTSTAMP:20260424T111438Z
DTSTART;VALUE=DATE:20251205
DTEND;VALUE=DATE:20251206
SUMMARY:Mikulášská obchůzka
DESCRIPTION:Mikuláš se svou nebeskou a pekelnou družinou zavítá 5. 12. opět do Rosic a může se zastavit i u Vás doma.\n \ncena za návštěvu jedné rodiny: 150 Kč (balíček není součástí ceny)dotazy: pernicova@svcrosice.czpřihlašování: přes klientské centrum (prosíme\, přihlašte jedno dítě z rodiny a do poznámky uveďte\, kolik dětí se na dané adrese bude nacházet). Mikuláš děti pochválí za vše\, co se jim v uplynulém roce podařilo\, ale také je motivuje ke zlepšení toho\, v čem byly slabší. Prosíme rodiče\, aby nám napsali email (pernicova@svcrosice.cz) se jmény\, věkem všech dětí na adrese a také za co děti pochválit\, případně pokárat.\nV úterý 2.12. Vám upřesníme čas\, kdy k Vám družina dorazí.
LOCATION:Rosice
END:VEVENT
END:VCALENDAR