BEGIN:VCALENDAR
VERSION:2.0
CALSCALE:GREGORIAN
PRODID:-//MyApp//Calendar 1.0//EN
BEGIN:VEVENT
METHOD:PUBLISH
UID:59530@regionalniportaly.cz
DTSTAMP:20260422T102039Z
DTSTART;VALUE=DATE:20260227
DTEND;VALUE=DATE:20260228
SUMMARY:TECHTLE MECHTLE revue - Hostinec u Maruny
DESCRIPTION:Rázná hospodská Maruna\, která má nejen celý svůj hostinec\, ale také všechny svoje štamgasty pod palcem a k tomu příběhy\, které píše sám život. Co všechno se dá zažít v jedné vesnické hospůdce během přípravy hasičského plesu\, to uvidíte právě v české hudební komedii&nbsp\;"Hostinec u Maruny". Chybět nebude pořádná dávka českého humoru\, láska\, hospodská rvačka a pivo poteče jak jinak než proudem. Samozřejmě zazní během večera české hospodské písničky\, které si budete broukat ještě na cestě domů a i celý druhý den...Má to jen jeden háček - všechny role\, a to včetně těch dámských\, tu hrají pouze muži a ti jsou navíc k nerozeznání od skutečných žen\, což vám pěkně zamotá hlavu. Pánové&nbsp\;Lukáš\, Martin\, Nikolas a Jarek&nbsp\;společně s tanečníky&nbsp\;Štěpánem\, Sayem a Danem&nbsp\;pro Vás tentokrát připravili další bláznivou komedii z prostředí české vesnické hospody.
LOCATION:Oslavany
END:VEVENT
END:VCALENDAR