BEGIN:VCALENDAR
VERSION:2.0
CALSCALE:GREGORIAN
PRODID:-//MyApp//Calendar 1.0//EN
BEGIN:VEVENT
METHOD:PUBLISH
UID:59446@regionalniportaly.cz
DTSTAMP:20260422T225326Z
DTSTART;VALUE=DATE:20251105
DTEND;VALUE=DATE:20251106
SUMMARY:Networking Coffee - Myšlenkové mapy s Kačkou Eichi Bilíkovou
DESCRIPTION:Chcete se potkat v komorní skupině příjemně naladěných lidí?Hledáte nějaký kontakt\, ať už na kominíka\, grafika\, fotografa či pekaře? Nebo se jen chcete inspirovat a nastartovat své podnikání?Pojďme společně rozhodit sítě a zalovit ve vodách nových kontaktů.Přijďte na příjemné setkání s inspirativními lidmi\, kteří chtějí svůj život řídit sami ...... při dobré kávě a bohatém občerstvení.A ať už patříte mezi zkušené networkery nebo to bude vaše premiéra\, přijďte navázat nové kontakty\, sdílet reference\, kontakty\, doporučení\, ale i znalosti a tipy\, jak snadněji a radostněji tvořit i pracovat.Host: Kačka Eichi Bilíková\, podnikající máma\, majitelka společnosti KAVA TEAM\, která nám přiblíží své téma - Myšlenkové mapy proti zahlcení.Networking začíná v 9:00\, scházet se možné od 8:45.POZOR! Networking se koná v Rosa Café. Kavárna je hned u klášter Rosa Coeli a menší parkoviště se nachází nedaleko. Pokud zde již nenajdete místo\, zaparkujte v přilehlých ulicích či na náměstí.Program:08:45 - 09:00 - příchod09:00 - 10:00 - představení všech účastníků networkingu10:00 - 11:00 - Kačka Eichi Bilíková - Myšlenkové mapy11:00 - 11:30 - volný networkingV případě velkého zájmu rádi přidáme další termín. Pokud byste měli zájem o odpolední termín\, dejte nám prosím vědět na katka@kavateam.cz nebo telefonicky na 777 668 139.Těší se na vás Kačka Eichi Bilíková\, Lucie Bulová
LOCATION:Dolní Kounice
END:VEVENT
END:VCALENDAR