BEGIN:VCALENDAR
VERSION:2.0
CALSCALE:GREGORIAN
PRODID:-//MyApp//Calendar 1.0//EN
BEGIN:VEVENT
METHOD:PUBLISH
UID:59314@regionalniportaly.cz
DTSTAMP:20260422T092303Z
DTSTART;VALUE=DATE:20260327
DTEND;VALUE=DATE:20260328
SUMMARY:Katapult tour 50 let (1975 – 2025)
DESCRIPTION:KATAPULT TOUR 50 let (1975 – 2025)50 let&nbsp\;na hudební scéně. Historie jako hrom!Mocná síla rokenrolu vystrčila drápy. Výroční turné je tady. Katapult připravil absolutně totální reprezentační program koncertu\, jehož emoce a energie fanoušky určitě ohromí. Olda Říha si navíc plní přání\, že se vrací jako „pachatel na místo činu“ do míst všude tam\, kde Katapult od roku 1975 začínal. A tohle kritérium koncert splňuje..&nbsp\;​Prodlužujeme Tour 50 let na jaro 2026!&nbsp\;
LOCATION:Oslavany
END:VEVENT
END:VCALENDAR