BEGIN:VCALENDAR
VERSION:2.0
CALSCALE:GREGORIAN
PRODID:-//MyApp//Calendar 1.0//EN
BEGIN:VEVENT
METHOD:PUBLISH
UID:59098@regionalniportaly.cz
DTSTAMP:20260422T180801Z
DTSTART;VALUE=DATE:20251207
DTEND;VALUE=DATE:20251208
SUMMARY:Princ a Večernice
DESCRIPTION:
LOCATION:Zbýšov
END:VEVENT
END:VCALENDAR