BEGIN:VCALENDAR
VERSION:2.0
CALSCALE:GREGORIAN
PRODID:-//MyApp//Calendar 1.0//EN
BEGIN:VEVENT
METHOD:PUBLISH
UID:59001@regionalniportaly.cz
DTSTAMP:20260422T160548Z
DTSTART;VALUE=DATE:20260109
DTEND;VALUE=DATE:20260110
SUMMARY:TITANIC 1987 live & hosté
DESCRIPTION:TITANIC 1987 live &amp\; hostéSpeciální vzpomínkový koncertní projektTitanicKapela Titanic nedávno vydala nové živé album "Jihlava 1987"\, které sklízí velmi pozitivní ohlas u fanoušků. I když kapela po smrti Zdeňka Černého ukončila svou aktivní činnost\, Titanic se rozhodl uspořádat vzpomínkové koncerty\, které by připomněly období okolo roku 1987 a při té příležitosti zavzpomínat i na zesnulé členy kapely\, Milana Hanáka a Zdeňka Černého. V roli zpěváků se představí různí hosté.&nbsp\;Dogma ArtDogma Art - veteráni české scény jejichž kořeny sahají až do roku 1980. V sestavě se kromě zpěváka Ladislava Obludárium Škaroupky představí i jeho syn Martin "Marthus" Škaroupka. Kapela se orientuje na syrovou\, moderní hard rockovou muziku\, v originálním pojetí\, které dává název „new hard“. Autorským tahounem hudby je kytarista Michal Kugler. Sestavu kompletuje basák Milan Vajgrt známý i z působení v další brněnské legendě Titanic. Zatím poslední studiové album z roku 2024 má název „Vzkříšení„.&nbsp\;MylionsBrněnští MYLIONS jsou hardrock-metalové seskupení “rocky” ostřílených muzikantů pod taktovkou Mirka Horňáka (ex Kern\, ex Titanic)\, které brázdí českou a moravskou hudební scénou se svou vlastní tvorbou\, ze které jasně dýchá Mirkův autorský rukopis\, podpořený až symbiotickými texty Libora Machaty. To vše zabaleno v moderním hávu s prvky progresivního soundu\, na kterém se svým muzikantstvím podílí i ostatní členové party\, Jiří Filler (ex Kern)\, Jan Vrchota a Jiří Skula. Celkovou atmosféru jednotlivých songů pak dotváří svým charismatickým hlasem frontman skupiny\, Miloš Hořínek.
LOCATION:Rosice
END:VEVENT
END:VCALENDAR