BEGIN:VCALENDAR
VERSION:2.0
CALSCALE:GREGORIAN
PRODID:-//MyApp//Calendar 1.0//EN
BEGIN:VEVENT
METHOD:PUBLISH
UID:58973@regionalniportaly.cz
DTSTAMP:20260422T210225Z
DTSTART;VALUE=DATE:20251108
DTEND;VALUE=DATE:20251109
SUMMARY:Strašidelné hradisko
DESCRIPTION:Zveme Vás na druhý ročník akce Strašidelné hradisko\, který se letos uskuteční v sobotu 8. listopadu 2025. Přijďte si užít kouzelně strašidelný podvečer plný her\, úkolů\, tance a zábavy! Společně s obcí a školou v Říčanech pro Vás chystáme akci\, kde se budou bát i smát malí i velcí.\n \nStrašidelná stezka s úkolyStezka se letos vrací ve dvou variantách:Malá stezka – pro rodiče s menšími dětmi (3–6 let)\, schůdná i s kočárkem do terénu.Velká stezka – pro skupiny 3–5 dětí ve věku 7–11 let.\nStartujeme od 16.00\, poslední skupiny vyrazí v 17.30.PŘIHLAŠOVÁNÍ PROBÍHÁ PŘES FORMULÁŘ. PROSÍME\, PROČTĚTE SI ŘÁDNĚ PRŮVODNÍ INFORMACE K PŘIHLAŠOVÁNÍ\n \nStrašidelný bál v kulturním doměOd 16.30 se můžete těšit na strašidelný bál v kulturním domě Říčany.Vstupné: 50 Kč na osobuNa pódiu se představí:- Mažoretky Pusinky z Říčan- Aerobik Rosice- MuzTan Rosice\nChybět nebudou ani drobné soutěže\, aktivity a občerstvení pro malé i velké!\n \nTematické dílničkyV obřadní síni budou od 17.00 do 19.00 probíhat tematické dílny pod vedením Janči Krajinové. \n \nProgram v knihovněOd 15:30 do 19:00 ožije říčanská knihovna tajemnou atmosférou!Čeká vás strašidelné čtení a děti si mohou vyzkoušet zábavné úkoly pod dohledem tajemných bytostí.\n \nKonec celé akce je plánován na cca 19.30. \n \nDalší uistanovení:- na akci bude přítomen fotograf. - v případě nepříznivého počasí neproběhnou venkovní aktivity akce (stezky). 
LOCATION:Říčany
END:VEVENT
END:VCALENDAR