BEGIN:VCALENDAR
VERSION:2.0
CALSCALE:GREGORIAN
PRODID:-//MyApp//Calendar 1.0//EN
BEGIN:VEVENT
METHOD:PUBLISH
UID:58836@regionalniportaly.cz
DTSTAMP:20260422T192629Z
DTSTART;VALUE=DATE:20251009
DTEND;VALUE=DATE:20251010
SUMMARY:Websterovi: Příběhy na pavoučím vlákně
DESCRIPTION:
LOCATION:Zbýšov
END:VEVENT
END:VCALENDAR