BEGIN:VCALENDAR
VERSION:2.0
CALSCALE:GREGORIAN
PRODID:-//MyApp//Calendar 1.0//EN
BEGIN:VEVENT
METHOD:PUBLISH
UID:58835@regionalniportaly.cz
DTSTAMP:20260422T161548Z
DTSTART;VALUE=DATE:20251031
DTEND;VALUE=DATE:20251101
SUMMARY:Ušák Chicky 2 a Tajemství sviště
DESCRIPTION:
LOCATION:Zbýšov
END:VEVENT
END:VCALENDAR