BEGIN:VCALENDAR
VERSION:2.0
CALSCALE:GREGORIAN
PRODID:-//MyApp//Calendar 1.0//EN
BEGIN:VEVENT
METHOD:PUBLISH
UID:58830@regionalniportaly.cz
DTSTAMP:20260422T161609Z
DTSTART;VALUE=DATE:20251017
DTEND;VALUE=DATE:20251018
SUMMARY:Noc v ZOO: Zombíci na útěku
DESCRIPTION:
LOCATION:Zbýšov
END:VEVENT
END:VCALENDAR