BEGIN:VCALENDAR
VERSION:2.0
CALSCALE:GREGORIAN
PRODID:-//MyApp//Calendar 1.0//EN
BEGIN:VEVENT
METHOD:PUBLISH
UID:58653@regionalniportaly.cz
DTSTAMP:20260423T022827Z
DTSTART;VALUE=DATE:20251020
DTEND;VALUE=DATE:20251021
SUMMARY:Bezplatná právní poradna
DESCRIPTION:Cílem poradny je nabídnout pomoc převážně v oblasti rodinného a pracovního práva tak\, aby klienti získali základní přehled o svých právech\, povinnostech a možnostech dalšího postupu.
LOCATION:Rosice
END:VEVENT
END:VCALENDAR