BEGIN:VCALENDAR
VERSION:2.0
CALSCALE:GREGORIAN
PRODID:-//MyApp//Calendar 1.0//EN
BEGIN:VEVENT
METHOD:PUBLISH
UID:58652@regionalniportaly.cz
DTSTAMP:20260423T021853Z
DTSTART;VALUE=DATE:20251011
DTEND;VALUE=DATE:20251012
SUMMARY:Kašpárkovy matlohrátky - lidské tělo
DESCRIPTION:Smyslohrátky jsou hry a činnosti\, které stimulují a rozvíjí všechny smysly dítěte. Děti si procvičí jemnou i hrubou motoriku\, soustředění\, pozornost\, budou rozvíjet svou fantazii\, kreativitu a představivost.\nMatlohraní je určené především pro děti (1\,5-cca 6 let)\, ale zapojit se mohou i rodiče.
LOCATION:Rosice
END:VEVENT
END:VCALENDAR