BEGIN:VCALENDAR
VERSION:2.0
CALSCALE:GREGORIAN
PRODID:-//MyApp//Calendar 1.0//EN
BEGIN:VEVENT
METHOD:PUBLISH
UID:58650@regionalniportaly.cz
DTSTAMP:20260423T035143Z
DTSTART;VALUE=DATE:20251022
DTEND;VALUE=DATE:20251023
SUMMARY:Muzicírování s drakem
DESCRIPTION:Hudebně-tvořivý program si v herně bez rodičů užijí děti od 3 do 7 let.\nDěti\, přijďte v jakémkoliv kostýmu!\nNa děti se těší Zdenka Makovská\n \nPS: Ve velkém sále bude ve stejnou dobu probíhat SWAP dámského a pánského oblečení
LOCATION:Rosice
END:VEVENT
END:VCALENDAR