BEGIN:VCALENDAR
VERSION:2.0
CALSCALE:GREGORIAN
PRODID:-//MyApp//Calendar 1.0//EN
BEGIN:VEVENT
METHOD:PUBLISH
UID:58648@regionalniportaly.cz
DTSTAMP:20260423T021522Z
DTSTART;VALUE=DATE:20251015
DTEND;VALUE=DATE:20251016
SUMMARY:Fun kvíz pro rodiny
DESCRIPTION:Přijďte si zasoutěžit v rodinných týmech na náš první Fun kvíz pro rodiny. Vemte celou rodinu a vyzvěte ostatní rodiny ve vědomostní soutěži s pestrými tématy pro dospělé i děti od 6 let.Kvíz moderuje zkušený moderátor hospodských kvízů a náš pedagog Ondra Sekanina.\n \nTermín: 15. 10. 2025 od 17 do 18.30 hodin (sraz v 16.50)Cena: díky projektu Šablony OP JAK je kvíz ZDARMAMísto: SVČ Rubiko Rosice - Jazyková učebnaTýmy: pro 2-6 členné týmy. Děti od 6 let.Přihlašování: Klientské centrumKontakt na garanta akce: Ondřej Sekanina\, sekanina@svcrosice.cz
LOCATION:Rosice
END:VEVENT
END:VCALENDAR