BEGIN:VCALENDAR
VERSION:2.0
CALSCALE:GREGORIAN
PRODID:-//MyApp//Calendar 1.0//EN
BEGIN:VEVENT
METHOD:PUBLISH
UID:58221@regionalniportaly.cz
DTSTAMP:20260422T175422Z
DTSTART;VALUE=DATE:20251221
DTEND;VALUE=DATE:20251222
SUMMARY:Kája a Bambuláček "Čokoládová Show"
DESCRIPTION:Nový pořad Káje a Bambuláčka ve Zbýšově\, děti do 2 let bez nároku na sedadlo vstup zdarma!
LOCATION:Zbýšov
END:VEVENT
END:VCALENDAR