BEGIN:VCALENDAR
VERSION:2.0
CALSCALE:GREGORIAN
PRODID:-//MyApp//Calendar 1.0//EN
BEGIN:VEVENT
METHOD:PUBLISH
UID:58119@regionalniportaly.cz
DTSTAMP:20260423T022612Z
DTSTART;VALUE=DATE:20251007
DTEND;VALUE=DATE:20251028
SUMMARY:Funkční trénink pro rodiče s dětmi
DESCRIPTION:Dopolední cvičení\, kdy rodiče trénují a děti si hrají. \n 
LOCATION:Rosice
END:VEVENT
END:VCALENDAR