BEGIN:VCALENDAR
VERSION:2.0
CALSCALE:GREGORIAN
PRODID:-//MyApp//Calendar 1.0//EN
BEGIN:VEVENT
METHOD:PUBLISH
UID:57819@regionalniportaly.cz
DTSTAMP:20260423T023402Z
DTSTART;VALUE=DATE:20251015
DTEND;VALUE=DATE:20251016
SUMMARY:Beseda v Kašpárkovské herně - Bylinky\, které nám pomohou v zimě
DESCRIPTION:Zajímá vás\, jak využít dary přírody\, které jsou běžně okolo nás? Jak správně sbírat\, sušit\, skladovat či jinak zpracovávat bylinky? A k čemu se dají využít? Pojďme se společně připravit na nadcházející zimní sezónu.\nNahlédnutím do světa bylin nás provede Daniela Růžičková\, která se již mnoho let věnuje studiu bylin a jejich užití v domácnosti.\nPro účastníky budou připravené doprovodné materiály s informacemi\, ochutnávka bylinných čajů a odborná literatura k nahlédnutí.
LOCATION:Rosice
END:VEVENT
END:VCALENDAR