BEGIN:VCALENDAR
VERSION:2.0
CALSCALE:GREGORIAN
PRODID:-//MyApp//Calendar 1.0//EN
BEGIN:VEVENT
METHOD:PUBLISH
UID:57594@regionalniportaly.cz
DTSTAMP:20260423T022811Z
DTSTART;VALUE=DATE:20250930
DTEND;VALUE=DATE:20251001
SUMMARY:Volná místa v kroužcích
DESCRIPTION:Ještě máme volná místa v kroužcích. Určitě si s dětmi vyberete!
LOCATION:Rosice
END:VEVENT
END:VCALENDAR