BEGIN:VCALENDAR
VERSION:2.0
CALSCALE:GREGORIAN
PRODID:-//MyApp//Calendar 1.0//EN
BEGIN:VEVENT
METHOD:PUBLISH
UID:57593@regionalniportaly.cz
DTSTAMP:20260423T021645Z
DTSTART;VALUE=DATE:20251008
DTEND;VALUE=DATE:20251009
SUMMARY:Podnikavá máma
DESCRIPTION:Pro všechny aktivní ženy\, které mají hlavu plnou nápadů a přemýšlí\, co dál.\nSetkávat se budeme každý měsíc. K dispozici je hernička\, kde si děti mohou hrát a ženy se mohou věnovat sobě.\nVstupné: 150 Kč\, permanentka na 6 vstupů 600 Kč 
LOCATION:Rosice
END:VEVENT
END:VCALENDAR