BEGIN:VCALENDAR
VERSION:2.0
CALSCALE:GREGORIAN
PRODID:-//MyApp//Calendar 1.0//EN
BEGIN:VEVENT
METHOD:PUBLISH
UID:57460@regionalniportaly.cz
DTSTAMP:20260423T023419Z
DTSTART;VALUE=DATE:20250927
DTEND;VALUE=DATE:20250928
SUMMARY:Dětská tvořivá dílna - Vítání podzimu
DESCRIPTION:Barvy podzimu kam se podíváš.
LOCATION:Rosice
END:VEVENT
END:VCALENDAR