BEGIN:VCALENDAR
VERSION:2.0
CALSCALE:GREGORIAN
PRODID:-//MyApp//Calendar 1.0//EN
BEGIN:VEVENT
METHOD:PUBLISH
UID:57459@regionalniportaly.cz
DTSTAMP:20260423T021732Z
DTSTART;VALUE=DATE:20250920
DTEND;VALUE=DATE:20250921
SUMMARY:Matlohrátky - zvířata
DESCRIPTION:Sensoryplay jsou hry a činnosti\, které stimulují a rozvíjí všechny smysly dítěte. Děti si procvičí jemnou i hrubou motoriku\, soustředění\, pozornost\, budou rozvíjet svou fantazii\, kreativitu a představivost. Protože se nejedná o řízenou činnost\, děti mají prostor pro sociální interakce\, které se díky tomuto učí.
LOCATION:Rosice
END:VEVENT
END:VCALENDAR