BEGIN:VCALENDAR
VERSION:2.0
CALSCALE:GREGORIAN
PRODID:-//MyApp//Calendar 1.0//EN
BEGIN:VEVENT
METHOD:PUBLISH
UID:57431@regionalniportaly.cz
DTSTAMP:20260425T122309Z
DTSTART;VALUE=DATE:20250901
DTEND;VALUE=DATE:20250910
SUMMARY:Přihlašování do kroužků v Sami Sebou Rosice
DESCRIPTION:🤸 Jupí! Přihlašování na kroužky v Sami Sebou je tady! Ze kterých kroužků můžete vybírat?\n \n🎲 V pátek odpoledne se v naší škole otevře deskovkový vesmír. Můžete si zahrát zajímavé deskové hry s podobnými nadšenci\, jako jste vy 😉 Objevíte nové taktiky\, hry i skvělou partu kamarádů!\n \n🧪 Ve čtvrtek dostanou prostor Pokusní králíci. Budete experimentovat\, bádat\, poznávat svět kolem a hlavně - všechno zkoušet na vlastní kůži 😯\n \n💡 Středa je tu pro všechny\, kteří Chtějí vědět víc než všichni ostatní. Každý týden jiné téma\, a pěkně do hloubky. O všem co nás zajímá.\n \n🎨 Středeční Tvoření na divoko bude trochu divoké. Dokážeme si\, že tvoření fakt není nuda - pěkně živelně 🌪️\n \nTak co\, s kým se od poloviny září budeme potkávat\, hrát si a objevovat? 😉\n \n👉 Bližší info na naší fb stránce\, na info@samisebou.cz nebo na +420 776 406 852.\n \n👋 Těšíme se na všechny hravé a zvídavé kamarády!
LOCATION:Rosice
END:VEVENT
END:VCALENDAR