BEGIN:VCALENDAR
VERSION:2.0
CALSCALE:GREGORIAN
PRODID:-//MyApp//Calendar 1.0//EN
BEGIN:VEVENT
METHOD:PUBLISH
UID:57356@regionalniportaly.cz
DTSTAMP:20260426T022810Z
DTSTART;VALUE=DATE:20251008
DTEND;VALUE=DATE:20251009
SUMMARY:Ženský kruh na téma: Hranice
DESCRIPTION:ŽENSKÝ KRUH – HRANICE: Kde končím já a začínáš ty?\n🗓 Kdy: středa 8. 10. 2025\, 17:30–19:30📍 Kde: Palackého nám. 46\, Rosice u Brna💰 Cena: 400 Kč\nŽeno\, zvu tě na ženský kruh\, který otevře důležité téma: hranice.Jak si je uvědomit? Jak je chránit – a přitom zůstat v kontaktu s druhými?Čeká nás sdílení\, jemná práce s tělem a otázky\, které možná dlouho zůstávaly uvnitř.Bez tlaku. V bezpečí. Ve tvém rytmu.\n💛 Přijď taková\, jaká jsi.Kruh je otevřen všem ženám – v jakékoli fázi života.\n🔗 Přihlášení a více informací na info@katerinasilarova.cz anebo v odkazech.Těším se na každou jednu z vás.Katy
LOCATION:Rosice
END:VEVENT
END:VCALENDAR