BEGIN:VCALENDAR
VERSION:2.0
CALSCALE:GREGORIAN
PRODID:-//MyApp//Calendar 1.0//EN
BEGIN:VEVENT
METHOD:PUBLISH
UID:57291@regionalniportaly.cz
DTSTAMP:20260423T023748Z
DTSTART;VALUE=DATE:20250929
DTEND;VALUE=DATE:20250930
SUMMARY:Bezplatná právní poradna
DESCRIPTION:Cílem poradny je nabídnout pomoc v oblasti rodinného a pracovního práva tak\, aby klienti získali základní přehled o svých právech\, povinnostech a možnostech dalšího postupu.\n \nS čím Vám například můžeme poradit:- mateřská a rodičovská dovolená (rodičovský příspěvek)- pracovní smlouvy\, výpověď\, odstupné- podpora v nezaměstnanosti\, registrace na úřadu práce- výdělečná činnost během mateřské a rodičovské dovolené- nástup do práce po MD a RD\, slaďování práce a rodiny- rozchod či rozvod- svěření dítěte do péče\, výživné- i jiné právní otázky
LOCATION:Rosice
END:VEVENT
END:VCALENDAR