BEGIN:VCALENDAR
VERSION:2.0
CALSCALE:GREGORIAN
PRODID:-//MyApp//Calendar 1.0//EN
BEGIN:VEVENT
METHOD:PUBLISH
UID:57030@regionalniportaly.cz
DTSTAMP:20260423T023045Z
DTSTART;VALUE=DATE:20250928
DTEND;VALUE=DATE:20250929
SUMMARY:Rodinné systemické konstelace v Rosicích u Brna
DESCRIPTION:Mám velkou radost\, že se tohle děje a tak dávám vědět\, že pro veliký zájem otevírám konstelační neděli.\nA tak tě zvu na další setkání s rodinnými konstelacemi. Jemnou\, ale hluboce léčivou metodou\, která nám pomáhá porozumět tomu\, co se v nás opakuje\, co bolí\, co potřebuje být konečně uznáno a uviděno.\n \n🧩 Téma si přináší každý své – vztahy\, zdraví\, rozhodnutí\, těhotenství\, bolest\, kterou nedokážeš pojmenovat.🎭 Ať už stavíš vlastní konstelaci\, nebo se účastníš jako zástupce – oba způsoby otevírají vnitřní prostor pro změnu.\nKDY: 28. 9. 2025\, 13:00–19:00KDE: Rahnův dům\, Palackého nám. 46\, Rosice u BrnaCENA:1400 Kč – s postavením vlastní konstelace1000 Kč – bez vlastní konstelace(-10 % pro ženy z retreatů a dlouhodobé klienty)\nKapacita je omezená. Rezervace a dotazy:📩 info@katerinasilarova.czanebo na odkaze:https://katerinasilarova.cz/rodinne-konstelace/\nS laskavostí a respektem ke každému jednomu z vás a vašim příběhům.Katy Šilarová\n 
LOCATION:Rosice
END:VEVENT
END:VCALENDAR