BEGIN:VCALENDAR
VERSION:2.0
CALSCALE:GREGORIAN
PRODID:-//MyApp//Calendar 1.0//EN
BEGIN:VEVENT
METHOD:PUBLISH
UID:56842@regionalniportaly.cz
DTSTAMP:20260423T022754Z
DTSTART;VALUE=DATE:20250927
DTEND;VALUE=DATE:20250928
SUMMARY:Rodinné systemické konstelace s prvky NLP
DESCRIPTION:Zvu tě na další setkání s rodinnými konstelacemi. Jemnou\, ale hluboce léčivou metodou\, která nám pomáhá porozumět tomu\, co se v nás opakuje\, co bolí\, co potřebuje být konečně uznáno a uviděno.Téma si přináší každý své – vztahy\, zdraví\, rozhodnutí\, těhotenství\, bolest\, kterou nedokážeš pojmenovat.Ať už stavíš vlastní konstelaci\, nebo se účastníš jako zástupce – oba způsoby otevírají vnitřní prostor pro změnu.KDY: 27. 9. 2025 (sobota)\, 13:00–19:00KDE: Rahnův dům\, Palackého nám. 46\, Rosice u BrnaCENA:1400 Kč – s postavením vlastní konstelace1000 Kč – bez vlastní konstelace(-10 % pro ženy z retreatů a dlouhodobé klienty)Kapacita je omezená. Rezervace a dotazy:info@katerinasilarova.cz Těším se\, kam se podíváme tentokrátKaty#konstelace #rodinnekonstelace #zastupce #prozitek #cestaKsobe #vnitrnipromena #rosice #systemickekonstelace #nlp
LOCATION:Rosice
END:VEVENT
END:VCALENDAR