BEGIN:VCALENDAR
VERSION:2.0
CALSCALE:GREGORIAN
PRODID:-//MyApp//Calendar 1.0//EN
BEGIN:VEVENT
METHOD:PUBLISH
UID:56450@regionalniportaly.cz
DTSTAMP:20260425T122231Z
DTSTART;VALUE=DATE:20250815
DTEND;VALUE=DATE:20250816
SUMMARY:Kroužky pro děti
DESCRIPTION:Přihlášky na kroužky na školní rok 2025/26 budou spuštěny v pondělí 4.8.
LOCATION:Rosice
END:VEVENT
END:VCALENDAR