BEGIN:VCALENDAR
VERSION:2.0
CALSCALE:GREGORIAN
PRODID:-//MyApp//Calendar 1.0//EN
BEGIN:VEVENT
METHOD:PUBLISH
UID:56261@regionalniportaly.cz
DTSTAMP:20260425T122215Z
DTSTART;VALUE=DATE:20250823
DTEND;VALUE=DATE:20250824
SUMMARY:celodenní prožitkový workshop ~ seminář\; Vnitřní dítě promlouvá
DESCRIPTION:🧸 Vnitřní dítě promlouvá🌿 Celodenní prožitkový workshop | Rosice u Brna\nMožná tě někdy zasáhne maličkost víc\, než by dávalo smysl. Možná se cítíš nepochopeně\, „moc citlivě“\, „moc intenzivně“. A možná… je to hlas vnitřního dítěte\, které stále čeká na přijetí.\n✨ Co nás čeká:\n🔹 Jemná práce s emocemi a vnitřními vzorci 🔹 Prožitkové techniky\, imaginace\, všímavý dech 🔹 Porozumění tomu\, odkud se berou naše reakce 🔹 Bezpečný prostor\, kde můžeš být taková/takový\, jaký jsi 🔹 Laskavé vedení zpět k sobě – skrze dotek\, slovo\, přítomnost\n📅 Kdy: sobota 23. srpna 2025 🕙 Čas: 10:00–18:00 📍 Kde: Rosice u Brna 💸 Cena: 1500 Kč\n🔗 Přihlášení &amp\; více informací: 👉 https://katerinasilarova.cz/workshop/\nV tichu vnitřního prostoru se často ozývá to\, co jsme kdysi nemohli říct nahlas. Pojďme ten hlas konečně vyslechnout.\nTěším se na vás. Katy 🤍
LOCATION:Rosice
END:VEVENT
END:VCALENDAR