BEGIN:VCALENDAR
VERSION:2.0
CALSCALE:GREGORIAN
PRODID:-//MyApp//Calendar 1.0//EN
BEGIN:VEVENT
METHOD:PUBLISH
UID:5618@regionalniportaly.cz
DTSTAMP:20260421T104429Z
DTSTART;VALUE=DATE:20160123
DTEND;VALUE=DATE:20160124
SUMMARY:Školní ples
DESCRIPTION:
LOCATION:Veverská Bítýška
END:VEVENT
END:VCALENDAR