BEGIN:VCALENDAR
VERSION:2.0
CALSCALE:GREGORIAN
PRODID:-//MyApp//Calendar 1.0//EN
BEGIN:VEVENT
METHOD:PUBLISH
UID:55847@regionalniportaly.cz
DTSTAMP:20260425T122146Z
DTSTART;VALUE=DATE:20250917
DTEND;VALUE=DATE:20250918
SUMMARY:První mužsko - ženský kruh
DESCRIPTION:První MUŽSKO-ŽENSKÝ KRUH NA téma: "Mužsko - ženský princip"KDY? 17.9. (středa)\, 17:30 – 19:30KDE? v přírodě\, Rosice u Brna CENA:  400 Kč\nSrdečně vás zveme na náš první společný mužsko-ženský kruh\, který pořádáme jako pár – žena a muž – v bezpečném\, otevřeném a citlivém prostoru.\nTématem bude mužská a ženská energie – jak ji vnímáme v sobě\, ve vztazích i ve světě kolem nás.Každý z nás tyto polarity nese jinak\, a právě jejich poznávání a vzájemné uctění může být hluboce léčivé.\n🙏 Nemusíte nic sdílet.Pokud cítíte\, že chcete jen naslouchat a být v tichu\, je to zcela v pořádku.Ticho léčí. Je důležitou a přirozenou součástí procesu sebepoznání a vnitřního zrání.\n👥 Kruh je otevřený jednotlivcům i párům.Můžete přijít sami – jako žena nebo muž – nebo společně jako pár.\nTěšíme se na společný čas ve vzájemném respektu\, tichu a otevřenosti.\nS velkou radostí a láskou\,Katy a Robert  ❥.
LOCATION:Rosice
END:VEVENT
END:VCALENDAR