BEGIN:VCALENDAR
VERSION:2.0
CALSCALE:GREGORIAN
PRODID:-//MyApp//Calendar 1.0//EN
BEGIN:VEVENT
METHOD:PUBLISH
UID:55846@regionalniportaly.cz
DTSTAMP:20260425T121308Z
DTSTART;VALUE=DATE:20250806
DTEND;VALUE=DATE:20250807
SUMMARY:Ženský kruh v Rosicích u Brna
DESCRIPTION:ŽENSKÝ KRUH v přírodě a TÉMA: "Ženské tělo – domov\, který se učím milovat."Zvu tě do ženského kruhu\, kde společně zpomalíme\, nadechneme se a obrátíme pozornost k tělu.Tělu\, které je naším domovem. Nese příběhy\, zranění i radosti\, proměny\, sílu i jemnost. Můžeme se dotknout témat jako je cykličnost\, intuice\, uzemnění\, přijetí a vnímání vlastní energie.Bez hodnocení. Bez tlaku. Jen v laskavém kruhu\, kde můžeš být taková\, jaká jsi.\nPojď se se mnou na chvíli vrátit k sobě – do kontaktu\, do ticha\, do těla.\nPřijď do ženského kruhu\, kde vytvoříme bezpečný prostor pro sdílení\, léčení a porozumění. Nebudeš v tom sama – možná zjistíš\, že mnoho z nás v sobě nosí podobné příběhy.\n💛 Kruh je otevřen všem ženám\, bez ohledu na věk či životní roli.Přijď taková\, jaká jsi.\nMaximální počet nás všech 11 žen.\nUdělejme společně krok vpřed k něčemu novému\, jinému\, K SOBĚ ❥.
LOCATION:Rosice
END:VEVENT
END:VCALENDAR