BEGIN:VCALENDAR
VERSION:2.0
CALSCALE:GREGORIAN
PRODID:-//MyApp//Calendar 1.0//EN
BEGIN:VEVENT
METHOD:PUBLISH
UID:55803@regionalniportaly.cz
DTSTAMP:20260425T140101Z
DTSTART;VALUE=DATE:20250912
DTEND;VALUE=DATE:20250913
SUMMARY:Večerní běh pro Světlušku
DESCRIPTION:Zveme Vás na tradiční charitativní akci - Večerní běh pro Světlušku\, jejíž výtěžek poputuje Nadačnímu fondu Českého rozhlasu na pomoc lidem se zrakovým postižením.Přijďte darovat trochu světla těm\, kteří ho tolik potřebují. Běhat může každý – bez ohledu na věk\, tempo nebo kondici.\n \ntermín: pátek 12. 9. 2025čas: od 17 do cca 22 hodinmísto: nádvoří rosického zámkustartovné: v předprodeji KIC 200 Kč\, na místě 250 Kč\n \nHARMONOHRAM AKCE17.00 zahájení registrace   18.00 dětský běh19.45 ukončení registrace20.00 start hlavního běhu20.30 start bonusového běhu\n \nHUDEBNÍ DOPROVOD17.00 Thunders18.00 Asymptota19.00 Trying company\n \ndalší ustanovení:- Na akci bude přítomen fotograf.- V případě nepříznivého počasí se akce ruší. - Trasa hlavního a bonusového běhu není uzpůsobena běžcům s kočárkem. 
LOCATION:Rosice
END:VEVENT
END:VCALENDAR