BEGIN:VCALENDAR
VERSION:2.0
CALSCALE:GREGORIAN
PRODID:-//MyApp//Calendar 1.0//EN
BEGIN:VEVENT
METHOD:PUBLISH
UID:55463@regionalniportaly.cz
DTSTAMP:20260425T122155Z
DTSTART;VALUE=DATE:20250830
DTEND;VALUE=DATE:20250831
SUMMARY:Přespání na Kašpárkovské zahradě
DESCRIPTION:Malé dobrodružství pro děti i rodiče.
LOCATION:Rosice
END:VEVENT
END:VCALENDAR