BEGIN:VCALENDAR
VERSION:2.0
CALSCALE:GREGORIAN
PRODID:-//MyApp//Calendar 1.0//EN
BEGIN:VEVENT
METHOD:PUBLISH
UID:55462@regionalniportaly.cz
DTSTAMP:20260425T171600Z
DTSTART;VALUE=DATE:20250703
DTEND;VALUE=DATE:20250704
SUMMARY:Letní matlohrátky
DESCRIPTION:Matlohrátky se přesunou na Kašpárkovskou zahradu a hlavním tématem bude voda a hrátky s ní. \nProgram bude probíhat od 9:30 do 10:30 hod.\, zahrada pak bude otevřená do 11:30 hod.\nKašpárkovo matlohraní je určené především pro děti (1\,5-cca 6 let)\, ale zapojit se mohou i rodiče.
LOCATION:Rosice
END:VEVENT
END:VCALENDAR