BEGIN:VCALENDAR
VERSION:2.0
CALSCALE:GREGORIAN
PRODID:-//MyApp//Calendar 1.0//EN
BEGIN:VEVENT
METHOD:PUBLISH
UID:55250@regionalniportaly.cz
DTSTAMP:20260422T102640Z
DTSTART;VALUE=DATE:20260322
DTEND;VALUE=DATE:20260323
SUMMARY:Za dveřmi kanceláří
DESCRIPTION:
LOCATION:Zbýšov
END:VEVENT
END:VCALENDAR