BEGIN:VCALENDAR
VERSION:2.0
CALSCALE:GREGORIAN
PRODID:-//MyApp//Calendar 1.0//EN
BEGIN:VEVENT
METHOD:PUBLISH
UID:55249@regionalniportaly.cz
DTSTAMP:20260422T094129Z
DTSTART;VALUE=DATE:20260305
DTEND;VALUE=DATE:20260306
SUMMARY:Román pro ženy
DESCRIPTION:
LOCATION:Zbýšov
END:VEVENT
END:VCALENDAR