BEGIN:VCALENDAR
VERSION:2.0
CALSCALE:GREGORIAN
PRODID:-//MyApp//Calendar 1.0//EN
BEGIN:VEVENT
METHOD:PUBLISH
UID:55118@regionalniportaly.cz
DTSTAMP:20260422T055907Z
DTSTART;VALUE=DATE:20260327
DTEND;VALUE=DATE:20260328
SUMMARY:Jarní koncert Fleret
DESCRIPTION:
LOCATION:Zbýšov
END:VEVENT
END:VCALENDAR