BEGIN:VCALENDAR
VERSION:2.0
CALSCALE:GREGORIAN
PRODID:-//MyApp//Calendar 1.0//EN
BEGIN:VEVENT
METHOD:PUBLISH
UID:55019@regionalniportaly.cz
DTSTAMP:20260425T153337Z
DTSTART;VALUE=DATE:20250604
DTEND;VALUE=DATE:20250605
SUMMARY:PubQuiz v NA JEDNO
DESCRIPTION:Další PubQuiz v NA JEDNO 4.6.2025 v 18:30.\nVstupné 80kč.\nDojdi se pobavit.\n 
LOCATION:Rosice
END:VEVENT
END:VCALENDAR