BEGIN:VCALENDAR
VERSION:2.0
CALSCALE:GREGORIAN
PRODID:-//MyApp//Calendar 1.0//EN
BEGIN:VEVENT
METHOD:PUBLISH
UID:54965@regionalniportaly.cz
DTSTAMP:20260425T133924Z
DTSTART;VALUE=DATE:20250702
DTEND;VALUE=DATE:20250730
SUMMARY:Středy s programem
DESCRIPTION:Letní středeční dopoledne budou na Kašpárkovské zahradě plné zábavy.
LOCATION:Rosice
END:VEVENT
END:VCALENDAR