BEGIN:VCALENDAR
VERSION:2.0
CALSCALE:GREGORIAN
PRODID:-//MyApp//Calendar 1.0//EN
BEGIN:VEVENT
METHOD:PUBLISH
UID:54773@regionalniportaly.cz
DTSTAMP:20260422T142325Z
DTSTART;VALUE=DATE:20260111
DTEND;VALUE=DATE:20260112
SUMMARY:Osmany Show
DESCRIPTION:Nejzábavnější pořad na světě\, v hlavní roli populární módní návrhář kubánského původu –&nbsp\;Osmany Laffita. Třetí nálož neuvěřitelných historek ze života Osmanyho Laffity\, kterou si vyžádali diváci! Nové příběhy\, nové historky\, nová porce zábavy!Moderuje: Eva Decastelo&nbsp\;Účinkují:&nbsp\;Osmany LaffitaDélka představení:&nbsp\;90 až 120 min. + přestávka
LOCATION:Zbýšov
END:VEVENT
END:VCALENDAR