BEGIN:VCALENDAR
VERSION:2.0
CALSCALE:GREGORIAN
PRODID:-//MyApp//Calendar 1.0//EN
BEGIN:VEVENT
METHOD:PUBLISH
UID:54734@regionalniportaly.cz
DTSTAMP:20260425T153420Z
DTSTART;VALUE=DATE:20250621
DTEND;VALUE=DATE:20250622
SUMMARY:Dětská tvořivá dílna - Vítáme tě\, léto!
DESCRIPTION:Další dílna pro tvořivé děti se bude konat na Kašpárkovské zahradě.
LOCATION:Rosice
END:VEVENT
END:VCALENDAR