BEGIN:VCALENDAR
VERSION:2.0
CALSCALE:GREGORIAN
PRODID:-//MyApp//Calendar 1.0//EN
BEGIN:VEVENT
METHOD:PUBLISH
UID:54650@regionalniportaly.cz
DTSTAMP:20260425T122405Z
DTSTART;VALUE=DATE:20250710
DTEND;VALUE=DATE:20250711
SUMMARY:webinář 10.7.2025 zDARma TÉMA: Vnitřní dítě a hlas\, který volá po pozornosti
DESCRIPTION:Možná tě zasáhne maličkost...a najednou máš pocit\, že je toho moc.Pláčeš\, i když nevíš proč. Cítíš vinu\, i když jsi nic neudělal/a.A říkáš si: „Já už bych to přece měl/a zvládat.“Ale možná to nejsi "ty teď".Možná je to tvé vnitřní dítě\, které stále čeká\, až ho uslyšíš.A až mu dovolíš cítit to\, co tehdy nesmělo.Pojď se na chvíli zastavit.Pojď si poslechnout ten hlas\, který se neschovává v hlavě\, ale v srdci.Srdečně tě zvu na:Webinář zDARmaVnitřní dítě a hlas\, který volá po pozornosti10. července18:30Online (Teams)Prožitek\, pochopení\, jemné cvičeníA pozvánka na letní workshop\, kde půjdeme hlouběji...Těším se na setkání\,Katy 
LOCATION:Rosice
END:VEVENT
END:VCALENDAR